BEGIN:VCALENDAR
VERSION:2.0
PRODID:-//Leafbabies.com - ECPv6.15.20//NONSGML v1.0//EN
CALSCALE:GREGORIAN
METHOD:PUBLISH
X-ORIGINAL-URL:https://www.leafbabies.com
X-WR-CALDESC:Events for Leafbabies.com
REFRESH-INTERVAL;VALUE=DURATION:PT1H
X-Robots-Tag:noindex
X-PUBLISHED-TTL:PT1H
BEGIN:VTIMEZONE
TZID:America/New_York
BEGIN:DAYLIGHT
TZOFFSETFROM:-0500
TZOFFSETTO:-0400
TZNAME:EDT
DTSTART:20170312T070000
END:DAYLIGHT
BEGIN:STANDARD
TZOFFSETFROM:-0400
TZOFFSETTO:-0500
TZNAME:EST
DTSTART:20171105T060000
END:STANDARD
BEGIN:DAYLIGHT
TZOFFSETFROM:-0500
TZOFFSETTO:-0400
TZNAME:EDT
DTSTART:20180311T070000
END:DAYLIGHT
BEGIN:STANDARD
TZOFFSETFROM:-0400
TZOFFSETTO:-0500
TZNAME:EST
DTSTART:20181104T060000
END:STANDARD
BEGIN:DAYLIGHT
TZOFFSETFROM:-0500
TZOFFSETTO:-0400
TZNAME:EDT
DTSTART:20190310T070000
END:DAYLIGHT
BEGIN:STANDARD
TZOFFSETFROM:-0400
TZOFFSETTO:-0500
TZNAME:EST
DTSTART:20191103T060000
END:STANDARD
END:VTIMEZONE
BEGIN:VEVENT
DTSTART;VALUE=DATE:20181201
DTEND;VALUE=DATE:20190101
DTSTAMP:20260423T191837
CREATED:20180311T192101Z
LAST-MODIFIED:20180313T195351Z
UID:1318-1543622400-1546300799@www.leafbabies.com
SUMMARY:Fertilize indoor plants
DESCRIPTION:[amazon_link asins=’B01J1HO6XY\,1939767164\,B07921DV4K\,B000279304\,B0059W6H6K\,B0071CZTK6\,B01EBEZLWM\,B000HAAOKY\,B01F3ZV3LG\,B01GU8E4H0′ template=’ProductGrid’ store=’leafbabies-20′ marketplace=’US’ link_id=’f399ebdb-2567-11e8-94a2-d700494cfee8′] \n\nTweet
URL:https://www.leafbabies.com/event/fertilize-indoor-plants/
CATEGORIES:Indoors
END:VEVENT
BEGIN:VEVENT
DTSTART;TZID=America/New_York:20181101T000000
DTEND;TZID=America/New_York:20181130T000000
DTSTAMP:20260423T191837
CREATED:20180311T192104Z
LAST-MODIFIED:20180312T024518Z
UID:1315-1541030400-1543536000@www.leafbabies.com
SUMMARY:Bring plants indoors
DESCRIPTION:[amazon_link asins=’B01G6QZ7KO\,B01MV4NVA3\,B01FDBZA82\,B01HF35OXC\,B01E2T3QEG\,B002HJGVB4\,B074FCLJQK\,B00FX0JF3K\,B01M7XY3V7\,B01M6CHJTT’ template=’ProductGrid’ store=’leafbabies-20′ marketplace=’US’ link_id=’63c59141-259f-11e8-8741-e9fbb00bb99c’] \n\nTweet
URL:https://www.leafbabies.com/event/bring-plants-indoors/
CATEGORIES:Indoors
END:VEVENT
BEGIN:VEVENT
DTSTART;VALUE=DATE:20180901
DTEND;VALUE=DATE:20181101
DTSTAMP:20260423T191837
CREATED:20180311T192109Z
LAST-MODIFIED:20180313T223139Z
UID:1309-1535760000-1541030399@www.leafbabies.com
SUMMARY:Canning
DESCRIPTION:[amazon_link asins=’B0000BYCFU\,B0001UZL8A\,B002KHN602\,B0000DDVMH\,0778801314\,0848746783\,0848754522\,B014V7RSE8\,B00RG0IWBG\,B00WT3OZDO’ template=’ProductGrid’ store=’leafbabies-20′ marketplace=’US’ link_id=’aaa97488-259f-11e8-89f6-ad3c8dbccee0′] \n\nTweet
URL:https://www.leafbabies.com/event/canning/
CATEGORIES:Indoors
END:VEVENT
BEGIN:VEVENT
DTSTART;VALUE=DATE:20180317
DTEND;VALUE=DATE:20180319
DTSTAMP:20260423T191837
CREATED:20180311T192156Z
LAST-MODIFIED:20180313T231954Z
UID:1277-1521244800-1521417599@www.leafbabies.com
SUMMARY:Saint Patrick's day
DESCRIPTION:[amazon_link asins=’B079K88FPG\,B079L26LS7\,B07899V3RH\,B079J6LMNM\,B004185GTW\,B00DUF2CJY\,B003DQJWB6\,B071Z4FY77\,B005WXXAH0\,B01NAZUKHS’ template=’ProductGrid’ store=’leafbabies-20′ marketplace=’US’ link_id=’caa3fdeb-2664-11e8-954c-9f5848878a0b’] \n\nTweet
URL:https://www.leafbabies.com/event/saint-patricks-day/
CATEGORIES:Indoors
END:VEVENT
BEGIN:VEVENT
DTSTART;TZID=America/New_York:20180301T000000
DTEND;TZID=America/New_York:20180331T000000
DTSTAMP:20260423T191837
CREATED:20180311T192158Z
LAST-MODIFIED:20180313T022737Z
UID:1274-1519862400-1522454400@www.leafbabies.com
SUMMARY:Start seeds indoors of spring planting
DESCRIPTION:[amazon_link asins=’B00BYG6P0I\,B000OWBUSA\,B01GSHK6EI\,B01N55B1U8′ template=’ProductGrid’ store=’leafbabies-20′ marketplace=’US’ link_id=’48330b49-12b7-11e8-ac9d-a184c7c21abf’] \n[amazon_link asins=’B0149L72CE\,B00BRQ3QWK\,B0058PTK6M\,B00K6B6MPK’ template=’ProductGrid’ store=’leafbabies-20′ marketplace=’US’ link_id=’5f7fb4ce-12b7-11e8-8e34-29cff4475e62′] \n[amazon_link asins=’B00IZO83AM\,B01KTO6G5E\,B01DL1D8JY\,B00HMB1F8G’ template=’ProductGrid’ store=’leafbabies-20′ marketplace=’US’ link_id=’75641b1f-12b7-11e8-9d68-1b12e7373404′] \n[amazon_link asins=’B00WXQET2O\,B072HGNFWV\,B00LE4RGOE\,B00VEN3HIO’ template=’ProductGrid’ store=’leafbabies-20′ marketplace=’US’ link_id=’863cda33-12b7-11e8-a62b-8b99847d1e28′] \n\nTweet
URL:https://www.leafbabies.com/event/start-seeds-indoors-of-spring-planting-2/
CATEGORIES:Indoors
END:VEVENT
BEGIN:VEVENT
DTSTART;VALUE=DATE:20180201
DTEND;VALUE=DATE:20180301
DTSTAMP:20260423T191837
CREATED:20180311T192204Z
LAST-MODIFIED:20180311T192204Z
UID:1269-1517443200-1519776000@www.leafbabies.com
SUMMARY:Buy seeds
DESCRIPTION:Tweet
URL:https://www.leafbabies.com/event/buy-seeds/
CATEGORIES:Indoors
END:VEVENT
BEGIN:VEVENT
DTSTART;VALUE=DATE:20180101
DTEND;VALUE=DATE:20180201
DTSTAMP:20260423T191837
CREATED:20180311T192207Z
LAST-MODIFIED:20180311T192207Z
UID:1267-1514764800-1517356800@www.leafbabies.com
SUMMARY:Seed catalogs
DESCRIPTION:Tweet
URL:https://www.leafbabies.com/event/seed-catalogs/
CATEGORIES:Indoors
END:VEVENT
BEGIN:VEVENT
DTSTART;VALUE=DATE:20180101
DTEND;VALUE=DATE:20180201
DTSTAMP:20260423T191837
CREATED:20180311T192205Z
LAST-MODIFIED:20180311T192205Z
UID:1266-1514764800-1517356800@www.leafbabies.com
SUMMARY:Care for plants overwintering indoors
DESCRIPTION:Tweet
URL:https://www.leafbabies.com/event/care-for-plants-overwintering-indoors/
CATEGORIES:Indoors
END:VEVENT
BEGIN:VEVENT
DTSTART;VALUE=DATE:20180101
DTEND;VALUE=DATE:20180201
DTSTAMP:20260423T191837
CREATED:20180311T192205Z
LAST-MODIFIED:20180313T224853Z
UID:1265-1514764800-1517443199@www.leafbabies.com
SUMMARY:Outdoor garden planning
DESCRIPTION:[amazon_link asins=’0696230828\,1580173152\,1603426949\,1510709126\,1978422105\,1538101319\,1539884570\,178019093X\,076035393X\,0789311941′ template=’ProductCarousel’ store=’leafbabies-20′ marketplace=’US’ link_id=’a4d8a242-2567-11e8-ab66-cfb3a456c0fb’] \n\nTweet
URL:https://www.leafbabies.com/event/outdoor-garden-planning/
CATEGORIES:Indoors
END:VEVENT
END:VCALENDAR