BEGIN:VCALENDAR
VERSION:2.0
PRODID:-//Leafbabies.com - ECPv6.15.20//NONSGML v1.0//EN
CALSCALE:GREGORIAN
METHOD:PUBLISH
X-WR-CALNAME:Leafbabies.com
X-ORIGINAL-URL:https://www.leafbabies.com
X-WR-CALDESC:Events for Leafbabies.com
REFRESH-INTERVAL;VALUE=DURATION:PT1H
X-Robots-Tag:noindex
X-PUBLISHED-TTL:PT1H
BEGIN:VTIMEZONE
TZID:America/New_York
BEGIN:DAYLIGHT
TZOFFSETFROM:-0500
TZOFFSETTO:-0400
TZNAME:EDT
DTSTART:20170312T070000
END:DAYLIGHT
BEGIN:STANDARD
TZOFFSETFROM:-0400
TZOFFSETTO:-0500
TZNAME:EST
DTSTART:20171105T060000
END:STANDARD
BEGIN:DAYLIGHT
TZOFFSETFROM:-0500
TZOFFSETTO:-0400
TZNAME:EDT
DTSTART:20180311T070000
END:DAYLIGHT
BEGIN:STANDARD
TZOFFSETFROM:-0400
TZOFFSETTO:-0500
TZNAME:EST
DTSTART:20181104T060000
END:STANDARD
BEGIN:DAYLIGHT
TZOFFSETFROM:-0500
TZOFFSETTO:-0400
TZNAME:EDT
DTSTART:20190310T070000
END:DAYLIGHT
BEGIN:STANDARD
TZOFFSETFROM:-0400
TZOFFSETTO:-0500
TZNAME:EST
DTSTART:20191103T060000
END:STANDARD
BEGIN:DAYLIGHT
TZOFFSETFROM:-0500
TZOFFSETTO:-0400
TZNAME:EDT
DTSTART:20200308T070000
END:DAYLIGHT
BEGIN:STANDARD
TZOFFSETFROM:-0400
TZOFFSETTO:-0500
TZNAME:EST
DTSTART:20201101T060000
END:STANDARD
END:VTIMEZONE
BEGIN:VEVENT
DTSTART;VALUE=DATE:20190401
DTEND;VALUE=DATE:20190402
DTSTAMP:20260423T144252
CREATED:20180402T185720Z
LAST-MODIFIED:20180402T185720Z
UID:1770-1554076800-1554163199@www.leafbabies.com
SUMMARY:Leaf Babies Birthday
DESCRIPTION:Tweet
URL:https://www.leafbabies.com/event/leaf-babies-birthday/
LOCATION:PA
CATEGORIES:Shows and special events
END:VEVENT
BEGIN:VEVENT
DTSTART;VALUE=DATE:20181225
DTEND;VALUE=DATE:20181226
DTSTAMP:20260423T144252
CREATED:20180311T192059Z
LAST-MODIFIED:20180313T190739Z
UID:1319-1545696000-1545782399@www.leafbabies.com
SUMMARY:Christmas
DESCRIPTION:[amazon_link asins=’B00AB5WI7W\,B0764XB93K\,B005MGBZZG\,B01L9X99GC\,B01LYIKJ26\,B075K56K2B\,B01LLSNG1E\,B01KHPF566\,B0009IN5AA\,B00NXEB0W2′ template=’ProductGrid’ store=’leafbabies-20′ marketplace=’US’ link_id=’f4ad6f05-259d-11e8-b995-3f9f0126eae7′] \n\nTweet
URL:https://www.leafbabies.com/event/christmas/
LOCATION:PA
CATEGORIES:Shows and special events
END:VEVENT
BEGIN:VEVENT
DTSTART;VALUE=DATE:20181201
DTEND;VALUE=DATE:20190101
DTSTAMP:20260423T144252
CREATED:20180311T192102Z
LAST-MODIFIED:20180313T191358Z
UID:1317-1543622400-1546300799@www.leafbabies.com
SUMMARY:Stabilize gas powered tools for winter
DESCRIPTION:[amazon_link asins=’B00D3IEIY0\,B0053ODFZU\,B003JTYGPO\,B000JJHNAW\,B000FW7V50\,B00092893E\,B000CPI5Z0\,B00HBA4J2M\,B001VMNHX8\,B0081ZVBDQ’ template=’ProductGrid’ store=’leafbabies-20′ marketplace=’US’ link_id=’ace56d48-259d-11e8-8fbf-575d5b2a3c8a’] \n\nTweet
URL:https://www.leafbabies.com/event/stabilize-gas-powered-tools-for-winter/
LOCATION:PA
CATEGORIES:Outdoors
END:VEVENT
BEGIN:VEVENT
DTSTART;VALUE=DATE:20181201
DTEND;VALUE=DATE:20190101
DTSTAMP:20260423T144252
CREATED:20180311T192101Z
LAST-MODIFIED:20180313T195351Z
UID:1318-1543622400-1546300799@www.leafbabies.com
SUMMARY:Fertilize indoor plants
DESCRIPTION:[amazon_link asins=’B01J1HO6XY\,1939767164\,B07921DV4K\,B000279304\,B0059W6H6K\,B0071CZTK6\,B01EBEZLWM\,B000HAAOKY\,B01F3ZV3LG\,B01GU8E4H0′ template=’ProductGrid’ store=’leafbabies-20′ marketplace=’US’ link_id=’f399ebdb-2567-11e8-94a2-d700494cfee8′] \n\nTweet
URL:https://www.leafbabies.com/event/fertilize-indoor-plants/
LOCATION:PA
CATEGORIES:Indoors
END:VEVENT
BEGIN:VEVENT
DTSTART;TZID=America/New_York:20181122T000000
DTEND;TZID=America/New_York:20181122T000000
DTSTAMP:20260423T144252
CREATED:20180311T192102Z
LAST-MODIFIED:20180312T023754Z
UID:1316-1542844800-1542844800@www.leafbabies.com
SUMMARY:Thanksgiving
DESCRIPTION:[amazon_link asins=’B01MG51OE6\,B01HTYH8YA\,B000PDWU50\,B071FPMSYJ\,B0009JKG9M\,1441319484\,B00U8PYERM\,B004WHF188\,1570617317\,0807834653′ template=’ProductGrid’ store=’leafbabies-20′ marketplace=’US’ link_id=’5a4fcda6-259e-11e8-b288-3501cfca961b’] \n\nTweet
URL:https://www.leafbabies.com/event/thanksgiving/
LOCATION:PA
CATEGORIES:Shows and special events
END:VEVENT
BEGIN:VEVENT
DTSTART;TZID=America/New_York:20181101T000000
DTEND;TZID=America/New_York:20181130T000000
DTSTAMP:20260423T144252
CREATED:20180311T192108Z
LAST-MODIFIED:20180311T202648Z
UID:1311-1541030400-1543536000@www.leafbabies.com
SUMMARY:Clean beds
DESCRIPTION:[amazon_link asins=’B00H0D7ISC\,B00LU5Q206\,B01LYAWK2W\,B018QDPT58\,B004R8VFZK\,B01JFN0GJC\,B00GFP5SI8\,B009378AG2\,B0785GSKJ1\,B075V744BK’ template=’ProductGrid’ store=’leafbabies-20′ marketplace=’US’ link_id=’82a7b4a3-256a-11e8-98b3-eb457d5a39b6′] \n\nTweet
URL:https://www.leafbabies.com/event/clean-beds/
LOCATION:PA
CATEGORIES:Outdoors
END:VEVENT
BEGIN:VEVENT
DTSTART;TZID=America/New_York:20181101T000000
DTEND;TZID=America/New_York:20181130T000000
DTSTAMP:20260423T144252
CREATED:20180311T192107Z
LAST-MODIFIED:20180311T202923Z
UID:1314-1541030400-1543536000@www.leafbabies.com
SUMMARY:Mulch leaves
DESCRIPTION:[amazon_link asins=’B00WFC2K1I\,B002P0U0LM\,B0018TWGAY\,B005UAYNMQ\,B00FREQC10\,B0030BG1JA\,B01GIQAB2G\,B002MAPZYC\,B00EUU044S\,B00006XMTM’ template=’ProductGrid’ store=’leafbabies-20′ marketplace=’US’ link_id=’e0ce7d0b-256a-11e8-ab51-63093bf66997′] \n\nTweet
URL:https://www.leafbabies.com/event/mulch-leaves/
LOCATION:PA
CATEGORIES:Outdoors
END:VEVENT
BEGIN:VEVENT
DTSTART;TZID=America/New_York:20181101T000000
DTEND;TZID=America/New_York:20181130T000000
DTSTAMP:20260423T144252
CREATED:20180311T192106Z
LAST-MODIFIED:20180312T024019Z
UID:1313-1541030400-1543536000@www.leafbabies.com
SUMMARY:Plant bulbs
DESCRIPTION:[amazon_link asins=’B079RCL4B2\,B00O02STE8\,B012U3ZMV6\,B079RBVDTH\,B0155N1T10\,B01H5OAA8U\,B01M1P08YY\,B074929GSZ\,B074FXXSDC\,B01DHB3PIC’ template=’ProductGrid’ store=’leafbabies-20′ marketplace=’US’ link_id=’b0947589-259e-11e8-853f-dbaca085f579′] \n\nTweet
URL:https://www.leafbabies.com/event/plant-bulbs/
LOCATION:PA
CATEGORIES:Outdoors
END:VEVENT
BEGIN:VEVENT
DTSTART;TZID=America/New_York:20181101T000000
DTEND;TZID=America/New_York:20181130T000000
DTSTAMP:20260423T144252
CREATED:20180311T192105Z
LAST-MODIFIED:20180312T024253Z
UID:1312-1541030400-1543536000@www.leafbabies.com
SUMMARY:Cover trees
DESCRIPTION:[amazon_link asins=’B0157LVZKA\,B01M4NP8AY\,B0157LVZLO\,B01FQ8MYX6\,B077M4XSVK\,B01I9H2I6O\,B00O3GZNA4\,B07B67PXHT\,B0155ORC2Y\,B0026T3AVY’ template=’ProductGrid’ store=’leafbabies-20′ marketplace=’US’ link_id=’0b2ff4d7-259f-11e8-a9ce-e5d27b3bf2fa’] \n\nTweet
URL:https://www.leafbabies.com/event/cover-trees/
LOCATION:PA
CATEGORIES:Outdoors
END:VEVENT
BEGIN:VEVENT
DTSTART;TZID=America/New_York:20181101T000000
DTEND;TZID=America/New_York:20181130T000000
DTSTAMP:20260423T144252
CREATED:20180311T192104Z
LAST-MODIFIED:20180312T024518Z
UID:1315-1541030400-1543536000@www.leafbabies.com
SUMMARY:Bring plants indoors
DESCRIPTION:[amazon_link asins=’B01G6QZ7KO\,B01MV4NVA3\,B01FDBZA82\,B01HF35OXC\,B01E2T3QEG\,B002HJGVB4\,B074FCLJQK\,B00FX0JF3K\,B01M7XY3V7\,B01M6CHJTT’ template=’ProductGrid’ store=’leafbabies-20′ marketplace=’US’ link_id=’63c59141-259f-11e8-8741-e9fbb00bb99c’] \n\nTweet
URL:https://www.leafbabies.com/event/bring-plants-indoors/
LOCATION:PA
CATEGORIES:Indoors
END:VEVENT
BEGIN:VEVENT
DTSTART;TZID=America/New_York:20181031T000000
DTEND;TZID=America/New_York:20181101T000000
DTSTAMP:20260423T144252
CREATED:20180311T192108Z
LAST-MODIFIED:20180312T025309Z
UID:1310-1540944000-1541030400@www.leafbabies.com
SUMMARY:Halloween
DESCRIPTION:[amazon_link asins=’B06XFF8PBC\,B075FYF671\,B075R8RFT7\,B075G3V47D\,B074XJHZX7\,B01LYB20SI\,B01HWNN32E\,B06XRBZBPJ\,B003AOYSBA\,B077F7W5QN’ template=’ProductGrid’ store=’leafbabies-20′ marketplace=’US’ link_id=’7a228d86-25a0-11e8-acbf-733b45650d8d’] \n\nTweet
URL:https://www.leafbabies.com/event/halloween/
LOCATION:PA
CATEGORIES:Shows and special events
END:VEVENT
BEGIN:VEVENT
DTSTART;VALUE=DATE:20181001
DTEND;VALUE=DATE:20181101
DTSTAMP:20260423T144252
CREATED:20180311T192111Z
LAST-MODIFIED:20180313T223634Z
UID:1308-1538352000-1541030399@www.leafbabies.com
SUMMARY:Harden plants for indoor overwintering
DESCRIPTION:[amazon_link asins=’B079KQJSCW\,B076CSX774\,B075DZFR41\,B0757DQS4N\,B071Z45M3M\,B06XCJ7Q3S\,B00P7U259C\,B00711TVZG\,B002R5ASVW\,B004W2HU0K’ template=’ProductGrid’ store=’leafbabies-20′ marketplace=’US’ link_id=’87ebd36b-2584-11e8-9b5d-b74a582323a5′] \n\nTweet
URL:https://www.leafbabies.com/event/harden-plants-for-indoor-overwintering/
LOCATION:PA
CATEGORIES:Outdoors
END:VEVENT
BEGIN:VEVENT
DTSTART;TZID=America/New_York:20180903T000000
DTEND;TZID=America/New_York:20180904T000000
DTSTAMP:20260423T144252
CREATED:20180311T192112Z
LAST-MODIFIED:20180312T025624Z
UID:1305-1535932800-1536019200@www.leafbabies.com
SUMMARY:Labor day
DESCRIPTION:[amazon_link asins=’B00004RALU\,B01HIFRCPA\,B00365FI9E\,B071G84J69\,B00FMM3K2Q\,B0019LW63I\,B006TCCQ4G\,B00J2EFHYO\,B000MQ63C6\,B0000DH4LT’ template=’ProductGrid’ store=’leafbabies-20′ marketplace=’US’ link_id=’efb6f533-25a0-11e8-8133-ad64be0f7787′] \n\nTweet
URL:https://www.leafbabies.com/event/labor-day/
LOCATION:PA
CATEGORIES:Shows and special events
END:VEVENT
BEGIN:VEVENT
DTSTART;VALUE=DATE:20180901
DTEND;VALUE=DATE:20181101
DTSTAMP:20260423T144252
CREATED:20180311T192109Z
LAST-MODIFIED:20180313T223139Z
UID:1309-1535760000-1541030399@www.leafbabies.com
SUMMARY:Canning
DESCRIPTION:[amazon_link asins=’B0000BYCFU\,B0001UZL8A\,B002KHN602\,B0000DDVMH\,0778801314\,0848746783\,0848754522\,B014V7RSE8\,B00RG0IWBG\,B00WT3OZDO’ template=’ProductGrid’ store=’leafbabies-20′ marketplace=’US’ link_id=’aaa97488-259f-11e8-89f6-ad3c8dbccee0′] \n\nTweet
URL:https://www.leafbabies.com/event/canning/
LOCATION:PA
CATEGORIES:Indoors
END:VEVENT
BEGIN:VEVENT
DTSTART;TZID=America/New_York:20180801T000000
DTEND;TZID=America/New_York:20181031T000000
DTSTAMP:20260423T144252
CREATED:20180311T192111Z
LAST-MODIFIED:20180312T030050Z
UID:1306-1533081600-1540944000@www.leafbabies.com
SUMMARY:Harvest
DESCRIPTION:[amazon_link asins=’B003E704N4\,B074883C61\,0879611510\,1578264596\,1882424581\,B076DHYQM1\,B01HNLL9M6\,B01BECQEA2\,B004I96S1Y\,B01BECQAWO’ template=’ProductGrid’ store=’leafbabies-20′ marketplace=’US’ link_id=’20a7c12c-25a0-11e8-99dc-999224de4b5a’] \n\nTweet
URL:https://www.leafbabies.com/event/harvest/
LOCATION:PA
CATEGORIES:Outdoors
END:VEVENT
BEGIN:VEVENT
DTSTART;TZID=America/New_York:20180801T000000
DTEND;TZID=America/New_York:20180831T000000
DTSTAMP:20260423T144252
CREATED:20180311T191217Z
LAST-MODIFIED:20180313T011702Z
UID:1299-1533081600-1535673600@www.leafbabies.com
SUMMARY:Plant cold season crops
DESCRIPTION:[amazon_link asins=’1603425683\,B0772L7KBS\,B00FNV9QQU\,B06XSKRKF3\,1603580816\,B07481QLWX\,1900322889\,B00AM1QLSW\,B00ANTPM3I’ template=’ProductGrid’ store=’leafbabies-20′ marketplace=’US’ link_id=’3502746c-265c-11e8-913c-819b8957ec7f’] \n\nTweet
URL:https://www.leafbabies.com/event/plant-cold-season-crops/
LOCATION:PA
CATEGORIES:Outdoors
END:VEVENT
BEGIN:VEVENT
DTSTART;VALUE=DATE:20180728
DTEND;VALUE=DATE:20180729
DTSTAMP:20260423T144252
CREATED:20180712T190159Z
LAST-MODIFIED:20180712T190159Z
UID:2431-1532736000-1532822399@www.leafbabies.com
SUMMARY:Summer Garden Experience 2018
DESCRIPTION:Take a farm wagon tour of the facility or walk through the Lancaster County Master Garden Idea Gardens and Penn State’s flower trial gardens.There will also be a variety of plants and products from local vendors. Food\, milkshakes and drinks will be available all day plus lots of great talks and exhibits throughout the day. For more information\, call 717-653-4728 or 717-394-6851 visit the site for details \nhttps://extension.psu.edu/summer-garden-experience-2018 \n \n  \n\nTweet
URL:https://www.leafbabies.com/event/summer-garden-experience-2018/
LOCATION:Penn State Extension Southeast Agricultural Research and Extension Center (SEAREC)\, 1446 Auction Road\, Manheim\, PA\, 17545\, United States
CATEGORIES:Shows and special events
ATTACH;FMTTYPE=image/jpeg:https://www.leafbabies.com/wp-content/uploads/2018/07/73DA6BE5-5D42-4581-80AB-A62A9AEBBFE4.jpeg
END:VEVENT
BEGIN:VEVENT
DTSTART;TZID=America/New_York:20180704T000000
DTEND;TZID=America/New_York:20180705T000000
DTSTAMP:20260423T144252
CREATED:20180311T191945Z
LAST-MODIFIED:20180312T025726Z
UID:1296-1530662400-1530748800@www.leafbabies.com
SUMMARY:Independence day
DESCRIPTION:[amazon_link asins=’B00004RALU\,B01HIFRCPA\,B00365FI9E\,B071G84J69\,B00FMM3K2Q\,B0019LW63I\,B006TCCQ4G\,B00J2EFHYO\,B000MQ63C6\,B0000DH4LT’ template=’ProductGrid’ store=’leafbabies-20′ marketplace=’US’ link_id=’efb6f533-25a0-11e8-8133-ad64be0f7787′] \n\nTweet
URL:https://www.leafbabies.com/event/independence-day/
LOCATION:PA
CATEGORIES:Shows and special events
END:VEVENT
BEGIN:VEVENT
DTSTART;TZID=America/New_York:20180617T000000
DTEND;TZID=America/New_York:20180618T000000
DTSTAMP:20260423T144252
CREATED:20180311T191949Z
LAST-MODIFIED:20180312T025820Z
UID:1292-1529193600-1529280000@www.leafbabies.com
SUMMARY:Fathers' day
DESCRIPTION:[amazon_link asins=’B00004RALU\,B01HIFRCPA\,B00365FI9E\,B071G84J69\,B00FMM3K2Q\,B0019LW63I\,B006TCCQ4G\,B00J2EFHYO\,B000MQ63C6\,B0000DH4LT’ template=’ProductGrid’ store=’leafbabies-20′ marketplace=’US’ link_id=’efb6f533-25a0-11e8-8133-ad64be0f7787′] \n\nTweet
URL:https://www.leafbabies.com/event/fathers-day/
LOCATION:PA
CATEGORIES:Shows and special events
END:VEVENT
BEGIN:VEVENT
DTSTART;TZID=America/New_York:20180601T000000
DTEND;TZID=America/New_York:20180831T000000
DTSTAMP:20260423T144252
CREATED:20180312T023040Z
LAST-MODIFIED:20180313T011133Z
UID:1297-1527811200-1535673600@www.leafbabies.com
SUMMARY:Monitor for pests
DESCRIPTION:[amazon_link asins=’B078YSD45J\,B0784QM2BJ\,0691167443\,B073P79X5G\,B009F1R0GC\,B000RZAP4E\,B000BWZCI2\,B00TS4WB10\,B078WHCJN2\,B018RHB5KG’ template=’ProductGrid’ store=’leafbabies-20′ marketplace=’US’ link_id=’28473f68-265a-11e8-b36e-47daae65cdc4′] \n\nTweet
URL:https://www.leafbabies.com/event/monitor-for-pests-3/
LOCATION:PA
CATEGORIES:Outdoors
END:VEVENT
BEGIN:VEVENT
DTSTART;TZID=America/New_York:20180601T000000
DTEND;TZID=America/New_York:20180630T000000
DTSTAMP:20260423T144252
CREATED:20180311T191950Z
LAST-MODIFIED:20180313T014855Z
UID:1290-1527811200-1530316800@www.leafbabies.com
SUMMARY:Plant late season / fast maturing veggies
DESCRIPTION:[amazon_link asins=’B00LE4RGOE\,B01CATASJG\,B00IK3K9I2\,B01EXA7HJY\,B010R829YO\,B00YO4KEWM\,B072287H4W\,B0177018RY\,B00E3IAGPO\,B077LXJRLM’ template=’ProductGrid’ store=’leafbabies-20′ marketplace=’US’ link_id=’aabb7d2a-2660-11e8-8392-b12f36cd6e5c’] \n\nTweet
URL:https://www.leafbabies.com/event/plant-late-season-fast-maturing-veggies/
LOCATION:PA
CATEGORIES:Outdoors
END:VEVENT
BEGIN:VEVENT
DTSTART;VALUE=DATE:20180522
DTEND;VALUE=DATE:20180527
DTSTAMP:20260423T144252
CREATED:20180311T191951Z
LAST-MODIFIED:20180313T230822Z
UID:1287-1526947200-1527379199@www.leafbabies.com
SUMMARY:RHS Chelsea flower show
DESCRIPTION:Tweet
URL:https://www.leafbabies.com/event/rhs-chelsea-flower-show/
LOCATION:The Royal Horticultural Society (RHS)\, 80 Vincent Square\, London\, England\, SW1P 2PE\, United Kingdom
CATEGORIES:Shows and special events
END:VEVENT
BEGIN:VEVENT
DTSTART;VALUE=DATE:20180513
DTEND;VALUE=DATE:20180514
DTSTAMP:20260423T144252
CREATED:20180311T191952Z
LAST-MODIFIED:20180313T230912Z
UID:1286-1526169600-1526255999@www.leafbabies.com
SUMMARY:Mother's day
DESCRIPTION:[amazon_link asins=’B077W2H1DJ\,B073W83SF2\,B000TYKWMI\,B00XUOP5VW\,B072DZQDYV\,B071FF8KXF\,B01MRZDVG2\,B078N4MWVJ\,B00V5GUAH6\,B00H32IEW4′ template=’ProductGrid’ store=’leafbabies-20′ marketplace=’US’ link_id=”] \n\nTweet
URL:https://www.leafbabies.com/event/mothers-day/
LOCATION:PA
CATEGORIES:Shows and special events
END:VEVENT
BEGIN:VEVENT
DTSTART;TZID=America/New_York:20180511T090000
DTEND;TZID=America/New_York:20180512T180000
DTSTAMP:20260423T144252
CREATED:20180506T174306Z
LAST-MODIFIED:20180506T174410Z
UID:2102-1526029200-1526148000@www.leafbabies.com
SUMMARY:Spring Fest & Taco Trot
DESCRIPTION:Amazon interactive\n\nSpring Plant Sale\nTaco Trot\nGoat Yoga\nKids Activities\nBake Sale\nRaffle\nBike Rodeo\n\n  \n  \n\nTweet
URL:https://www.leafbabies.com/event/spring-fest-taco-trot/
LOCATION:Glade Run Lutheran Services\, 70 W. Beaver Road\, Zelienople\, PA\, 16063\, United States
CATEGORIES:Outdoors,Shows and special events
ATTACH;FMTTYPE=image/jpeg:https://www.leafbabies.com/wp-content/uploads/2018/05/springfest.jpg
ORGANIZER;CN="Glade Run Adventures":MAILTO:jwahlenmayer@gladerun.org
END:VEVENT
BEGIN:VEVENT
DTSTART;TZID=America/New_York:20180505T000000
DTEND;TZID=America/New_York:20180505T000000
DTSTAMP:20260423T144253
CREATED:20180311T191952Z
LAST-MODIFIED:20180313T014221Z
UID:1288-1525478400-1525478400@www.leafbabies.com
SUMMARY:World naked gardening day
DESCRIPTION:[amazon_link asins=’B079VPS1Z9\,B079NYSN4V\,B01NCIZ2TA\,B0793HH83S\,B071HLB5ZT\,B06W9L385M\,B01JS0CGQS\,B013MSPS1M\,B072HBS2X5\,B004H89KFC’ template=’ProductGrid’ store=’leafbabies-20′ marketplace=’US’ link_id=’c1d01caa-265f-11e8-9740-cb1476f313f4′] \n\nTweet
URL:https://www.leafbabies.com/event/world-naked-gardening-day/
LOCATION:PA
CATEGORIES:Shows and special events
END:VEVENT
BEGIN:VEVENT
DTSTART;VALUE=DATE:20180501
DTEND;VALUE=DATE:20180514
DTSTAMP:20260423T144253
CREATED:20180311T191953Z
LAST-MODIFIED:20180311T191953Z
UID:1285-1525132800-1526169600@www.leafbabies.com
SUMMARY:Transplant starts and seedlings in the garden
DESCRIPTION:Tweet
URL:https://www.leafbabies.com/event/transplant-starts-and-seedlings-in-the-garden/
LOCATION:PA
CATEGORIES:Outdoors
END:VEVENT
BEGIN:VEVENT
DTSTART;VALUE=DATE:20180430
DTEND;VALUE=DATE:20180501
DTSTAMP:20260423T144253
CREATED:20180501T011009Z
LAST-MODIFIED:20180501T011009Z
UID:2088-1525046400-1525132799@www.leafbabies.com
SUMMARY:Arbor Day
DESCRIPTION:Amazon interactive\n\nTweet
URL:https://www.leafbabies.com/event/arbor-day-2/
LOCATION:PA
END:VEVENT
BEGIN:VEVENT
DTSTART;VALUE=DATE:20180427
DTEND;VALUE=DATE:20180428
DTSTAMP:20260423T144253
CREATED:20180311T191953Z
LAST-MODIFIED:20180313T231019Z
UID:1284-1524787200-1524873599@www.leafbabies.com
SUMMARY:Arbor day
DESCRIPTION:[amazon_link asins=’0963465759\,B07792RGG3\,B01N5NML0Q\,B00HZR1XQG\,B01MR0OZFS\,B0013CGIMI\,0060256656\,1771642483\,B0746FL6YX\,B00WBP974M’ template=’ProductGrid’ store=’leafbabies-20′ marketplace=’US’ link_id=’e8eb69ef-2663-11e8-be4c-01f5bdac906a’] \n\nTweet
URL:https://www.leafbabies.com/event/arbor-day/
LOCATION:PA
CATEGORIES:Shows and special events
END:VEVENT
BEGIN:VEVENT
DTSTART;VALUE=DATE:20180422
DTEND;VALUE=DATE:20180423
DTSTAMP:20260423T144253
CREATED:20180311T191954Z
LAST-MODIFIED:20180313T231052Z
UID:1283-1524355200-1524441599@www.leafbabies.com
SUMMARY:Earth day
DESCRIPTION:[amazon_link asins=’B075MSX343\,B01DOQ71QM\,B01DMZPK0O\,B06Y3MXMNW\,B00J0KIPX0\,B073R5YX64\,B079Y3JXDP\,B079WCK73F\,B07B6248B9\,B076DX73ZK’ template=’ProductGrid’ store=’leafbabies-20′ marketplace=’US’ link_id=’7834f656-2661-11e8-97ef-4f048e109f6e’] \n\nTweet
URL:https://www.leafbabies.com/event/earth-day/
LOCATION:PA
CATEGORIES:Shows and special events
END:VEVENT
BEGIN:VEVENT
DTSTART;VALUE=DATE:20180422
DTEND;VALUE=DATE:20180423
DTSTAMP:20260423T144253
CREATED:20180422T152232Z
LAST-MODIFIED:20180422T152232Z
UID:2017-1524355200-1524441599@www.leafbabies.com
SUMMARY:Earth Day
DESCRIPTION:Earth Day has been around since 1970 and is celebrated in almost 200 countries. We’ve been celebrating all week by getting outside\, tweeting and gardening. We ordered some trees and they’ll be here ready for planting next weekend. We’re very excited! \nHow are you celebrating Earth Day? Tweet us @leafbabies and let us know \nAmazon interactive\n  \n\nTweet
URL:https://www.leafbabies.com/event/earth-day-2/
LOCATION:PA
CATEGORIES:Outdoors,Shows and special events
ATTACH;FMTTYPE=image/jpeg:https://www.leafbabies.com/wp-content/uploads/2016/05/20160409_122821.jpg
END:VEVENT
END:VCALENDAR